BEGIN:VCALENDAR
VERSION:2.0
PRODID:-//hacksw/handcal//NONSGML v1.0//EN
BEGIN:VEVENT
SUMMARY:Regionaux 25/50m - Creil
UID:f402ba01-da29-43a8-917b-b831b0ec8f19
DTSTART:20260515T220000Z
DTEND:20260524T220000Z
LOCATION:Localisation   
CATEGORIES:Sportif
STATUS:
URL;VALUE=URI:https://tirdelabuttedevouel.sportsregions.fr/evenements/2026/05/16/regionaux-2550m-creil-2440785
END:VEVENT
END:VCALENDAR
