BEGIN:VCALENDAR
VERSION:2.0
PRODID:-//hacksw/handcal//NONSGML v1.0//EN
BEGIN:VEVENT
SUMMARY:CDF Ecoles de tir - Beziers
UID:62b9467d-b8a7-4f36-8aea-a895c4886c82
DTSTART:20260513T220000Z
DTEND:20260517T220000Z
LOCATION:Localisation   
CATEGORIES:Sportif
STATUS:
URL;VALUE=URI:https://tirdelabuttedevouel.sportsregions.fr/evenements/2026/05/14/cdf-ecoles-de-tir-beziers-2440792
END:VEVENT
END:VCALENDAR
