BEGIN:VCALENDAR
VERSION:2.0
PRODID:-//hacksw/handcal//NONSGML v1.0//EN
BEGIN:VEVENT
SUMMARY:Finale tour Aisne Espoir - St-Quentin
UID:36943593-ea7c-43ad-a8af-494c108e76f8
DTSTART:20260501T120000Z
DTEND:20260501T220000Z
LOCATION:Localisation   
CATEGORIES:Sportif
STATUS:
URL;VALUE=URI:https://tirdelabuttedevouel.sportsregions.fr/evenements/2026/05/01/finale-tour-aisne-espoir-st-quentin-2440781
END:VEVENT
END:VCALENDAR
