BEGIN:VCALENDAR
VERSION:2.0
PRODID:-//hacksw/handcal//NONSGML v1.0//EN
BEGIN:VEVENT
SUMMARY:Departementaux TAR - Laon
UID:1feff7d9-4473-4959-b4df-449b8a600eb8
DTSTART:20260417T220000Z
DTEND:20260419T220000Z
LOCATION:Localisation   
CATEGORIES:Sportif
STATUS:
URL;VALUE=URI:https://tirdelabuttedevouel.sportsregions.fr/evenements/2026/04/18/departementaux-tar-laon-2440790
END:VEVENT
END:VCALENDAR
